BEGIN:VCALENDAR
VERSION:2.0
PRODID:-//Local Legend Brewing Company - ECPv6.15.3//NONSGML v1.0//EN
CALSCALE:GREGORIAN
METHOD:PUBLISH
X-WR-CALNAME:Local Legend Brewing Company
X-ORIGINAL-URL:https://locallegendbrewing.com
X-WR-CALDESC:Events for Local Legend Brewing Company
REFRESH-INTERVAL;VALUE=DURATION:PT1H
X-Robots-Tag:noindex
X-PUBLISHED-TTL:PT1H
BEGIN:VTIMEZONE
TZID:America/New_York
BEGIN:DAYLIGHT
TZOFFSETFROM:-0500
TZOFFSETTO:-0400
TZNAME:EDT
DTSTART:20250309T070000
END:DAYLIGHT
BEGIN:STANDARD
TZOFFSETFROM:-0400
TZOFFSETTO:-0500
TZNAME:EST
DTSTART:20251102T060000
END:STANDARD
BEGIN:DAYLIGHT
TZOFFSETFROM:-0500
TZOFFSETTO:-0400
TZNAME:EDT
DTSTART:20260308T070000
END:DAYLIGHT
BEGIN:STANDARD
TZOFFSETFROM:-0400
TZOFFSETTO:-0500
TZNAME:EST
DTSTART:20261101T060000
END:STANDARD
END:VTIMEZONE
BEGIN:VEVENT
DTSTART;TZID=America/New_York:20260227T180000
DTEND;TZID=America/New_York:20260227T210000
DTSTAMP:20260426T003617
CREATED:20260131T031414Z
LAST-MODIFIED:20260131T031414Z
UID:2261-1772215200-1772226000@locallegendbrewing.com
SUMMARY:Feel Good Inc. Duo
DESCRIPTION:
URL:https://locallegendbrewing.com/event/feel-good-inc-duo-2/
LOCATION:Local Legend Brewing Company\, 1014 William Hilton Pkwy\, Hilton Head Island\, SC\, 29928\, United States
CATEGORIES:Live Music
ATTACH;FMTTYPE=image/jpeg:https://locallegendbrewing.com/wp-content/uploads/2025/08/Feel-Good-Inc-Band.jpg
END:VEVENT
BEGIN:VEVENT
DTSTART;TZID=America/New_York:20260226T170000
DTEND;TZID=America/New_York:20260226T180000
DTSTAMP:20260426T003617
CREATED:20260131T031330Z
LAST-MODIFIED:20260131T031330Z
UID:2262-1772125200-1772128800@locallegendbrewing.com
SUMMARY:Matthew Spruill
DESCRIPTION:
URL:https://locallegendbrewing.com/event/matthew-spruill/
CATEGORIES:Live Music
ATTACH;FMTTYPE=image/jpeg:https://locallegendbrewing.com/wp-content/uploads/2026/01/Matthew-Spruill-PHoto.jpg
END:VEVENT
BEGIN:VEVENT
DTSTART;TZID=America/New_York:20260225T170000
DTEND;TZID=America/New_York:20260225T200000
DTSTAMP:20260426T003617
CREATED:20260131T031046Z
LAST-MODIFIED:20260131T031046Z
UID:2256-1772038800-1772049600@locallegendbrewing.com
SUMMARY:Kyle Wareham
DESCRIPTION:
URL:https://locallegendbrewing.com/event/kyle-wareham-30/
LOCATION:Local Legend Brewing Company\, 1014 William Hilton Pkwy\, Hilton Head Island\, SC\, 29928\, United States
CATEGORIES:Live Music
ATTACH;FMTTYPE=image/jpeg:https://locallegendbrewing.com/wp-content/uploads/2025/05/Kyle-Photo.jpg
END:VEVENT
BEGIN:VEVENT
DTSTART;TZID=America/New_York:20260220T180000
DTEND;TZID=America/New_York:20260220T210000
DTSTAMP:20260426T003617
CREATED:20260131T031040Z
LAST-MODIFIED:20260131T031040Z
UID:2252-1771610400-1771621200@locallegendbrewing.com
SUMMARY:Ben & Ross Duo
DESCRIPTION:
URL:https://locallegendbrewing.com/event/ben-ross-duo-2/
LOCATION:Local Legend Brewing Company\, 1014 William Hilton Pkwy\, Hilton Head Island\, SC\, 29928\, United States
CATEGORIES:Live Music
ATTACH;FMTTYPE=image/jpeg:https://locallegendbrewing.com/wp-content/uploads/2025/05/Ben-and-Ross-Duo-Featured.jpg
END:VEVENT
BEGIN:VEVENT
DTSTART;TZID=America/New_York:20260219T170000
DTEND;TZID=America/New_York:20260219T200000
DTSTAMP:20260426T003617
CREATED:20260131T030926Z
LAST-MODIFIED:20260131T030926Z
UID:2248-1771520400-1771531200@locallegendbrewing.com
SUMMARY:Levi Moore
DESCRIPTION:
URL:https://locallegendbrewing.com/event/levi-moore-11/
LOCATION:Local Legend Brewing Company\, 1014 William Hilton Pkwy\, Hilton Head Island\, SC\, 29928\, United States
CATEGORIES:Live Music
ATTACH;FMTTYPE=image/jpeg:https://locallegendbrewing.com/wp-content/uploads/2025/05/Levi-Moore-Featured.jpg
END:VEVENT
BEGIN:VEVENT
DTSTART;TZID=America/New_York:20260218T170000
DTEND;TZID=America/New_York:20260218T200000
DTSTAMP:20260426T003617
CREATED:20260131T030854Z
LAST-MODIFIED:20260131T030854Z
UID:2244-1771434000-1771444800@locallegendbrewing.com
SUMMARY:Kyle Wareham
DESCRIPTION:
URL:https://locallegendbrewing.com/event/kyle-wareham-29/
LOCATION:Local Legend Brewing Company\, 1014 William Hilton Pkwy\, Hilton Head Island\, SC\, 29928\, United States
CATEGORIES:Live Music
ATTACH;FMTTYPE=image/jpeg:https://locallegendbrewing.com/wp-content/uploads/2025/05/Kyle-Photo.jpg
END:VEVENT
BEGIN:VEVENT
DTSTART;TZID=America/New_York:20260213T180000
DTEND;TZID=America/New_York:20260213T210000
DTSTAMP:20260426T003617
CREATED:20260131T030827Z
LAST-MODIFIED:20260131T030827Z
UID:2240-1771005600-1771016400@locallegendbrewing.com
SUMMARY:Jonathan King & Chip Larkby Duo
DESCRIPTION:
URL:https://locallegendbrewing.com/event/jonathan-king-chip-larkby-duo/
LOCATION:Local Legend Brewing Company\, 1014 William Hilton Pkwy\, Hilton Head Island\, SC\, 29928\, United States
CATEGORIES:Live Music
ATTACH;FMTTYPE=image/jpeg:https://locallegendbrewing.com/wp-content/uploads/2025/05/Local-Legend-Live-Music-Placeholder.jpg
END:VEVENT
BEGIN:VEVENT
DTSTART;TZID=America/New_York:20260212T170000
DTEND;TZID=America/New_York:20260212T200000
DTSTAMP:20260426T003617
CREATED:20260131T030645Z
LAST-MODIFIED:20260131T030645Z
UID:2236-1770915600-1770926400@locallegendbrewing.com
SUMMARY:Taylor Kent
DESCRIPTION:
URL:https://locallegendbrewing.com/event/taylor-kent-2/
LOCATION:Local Legend Brewing Company\, 1014 William Hilton Pkwy\, Hilton Head Island\, SC\, 29928\, United States
CATEGORIES:Live Music
ATTACH;FMTTYPE=image/jpeg:https://locallegendbrewing.com/wp-content/uploads/2026/01/Taylor-Kent-Photo.jpg
END:VEVENT
BEGIN:VEVENT
DTSTART;TZID=America/New_York:20260211T170000
DTEND;TZID=America/New_York:20260211T200000
DTSTAMP:20260426T003617
CREATED:20260131T030539Z
LAST-MODIFIED:20260131T030539Z
UID:2233-1770829200-1770840000@locallegendbrewing.com
SUMMARY:Kyle Wareham
DESCRIPTION:
URL:https://locallegendbrewing.com/event/kyle-wareham-28/
LOCATION:Local Legend Brewing Company\, 1014 William Hilton Pkwy\, Hilton Head Island\, SC\, 29928\, United States
CATEGORIES:Live Music
ATTACH;FMTTYPE=image/jpeg:https://locallegendbrewing.com/wp-content/uploads/2025/05/Kyle-Photo.jpg
END:VEVENT
BEGIN:VEVENT
DTSTART;TZID=America/New_York:20260206T180000
DTEND;TZID=America/New_York:20260206T210000
DTSTAMP:20260426T003617
CREATED:20260131T030459Z
LAST-MODIFIED:20260131T030459Z
UID:2229-1770400800-1770411600@locallegendbrewing.com
SUMMARY:Ben & Ross Duo
DESCRIPTION:
URL:https://locallegendbrewing.com/event/ben-ross-duo/
LOCATION:Local Legend Brewing Company\, 1014 William Hilton Pkwy\, Hilton Head Island\, SC\, 29928\, United States
CATEGORIES:Live Music
ATTACH;FMTTYPE=image/jpeg:https://locallegendbrewing.com/wp-content/uploads/2025/05/Ben-and-Ross-Duo-Featured.jpg
END:VEVENT
BEGIN:VEVENT
DTSTART;TZID=America/New_York:20260205T170000
DTEND;TZID=America/New_York:20260205T200000
DTSTAMP:20260426T003617
CREATED:20260131T030417Z
LAST-MODIFIED:20260131T030417Z
UID:2225-1770310800-1770321600@locallegendbrewing.com
SUMMARY:Levi Moore
DESCRIPTION:
URL:https://locallegendbrewing.com/event/levi-moore-10/
LOCATION:Local Legend Brewing Company\, 1014 William Hilton Pkwy\, Hilton Head Island\, SC\, 29928\, United States
CATEGORIES:Live Music
ATTACH;FMTTYPE=image/jpeg:https://locallegendbrewing.com/wp-content/uploads/2025/05/Levi-Moore-Featured.jpg
END:VEVENT
BEGIN:VEVENT
DTSTART;TZID=America/New_York:20260204T170000
DTEND;TZID=America/New_York:20260204T200000
DTSTAMP:20260426T003617
CREATED:20260131T030307Z
LAST-MODIFIED:20260131T030307Z
UID:2218-1770224400-1770235200@locallegendbrewing.com
SUMMARY:Kyle Wareham
DESCRIPTION:
URL:https://locallegendbrewing.com/event/kyle-wareham-27/
LOCATION:Local Legend Brewing Company\, 1014 William Hilton Pkwy\, Hilton Head Island\, SC\, 29928\, United States
CATEGORIES:Live Music
ATTACH;FMTTYPE=image/jpeg:https://locallegendbrewing.com/wp-content/uploads/2025/05/Kyle-Photo.jpg
END:VEVENT
BEGIN:VEVENT
DTSTART;TZID=America/New_York:20260130T180000
DTEND;TZID=America/New_York:20260130T210000
DTSTAMP:20260426T003617
CREATED:20260102T181254Z
LAST-MODIFIED:20260102T181254Z
UID:2202-1769796000-1769806800@locallegendbrewing.com
SUMMARY:Nice Guys Duo
DESCRIPTION:
URL:https://locallegendbrewing.com/event/nice-guys-duo-2/
LOCATION:Local Legend Brewing Company\, 1014 William Hilton Pkwy\, Hilton Head Island\, SC\, 29928\, United States
CATEGORIES:Live Music
ATTACH;FMTTYPE=image/jpeg:https://locallegendbrewing.com/wp-content/uploads/2025/08/The-Nice-Guys-Logo.jpg
END:VEVENT
BEGIN:VEVENT
DTSTART;TZID=America/New_York:20260129T170000
DTEND;TZID=America/New_York:20260129T210000
DTSTAMP:20260426T003617
CREATED:20260102T181247Z
LAST-MODIFIED:20260102T181247Z
UID:2201-1769706000-1769720400@locallegendbrewing.com
SUMMARY:Pete Carol
DESCRIPTION:
URL:https://locallegendbrewing.com/event/pete-carol/
LOCATION:Local Legend Brewing Company\, 1014 William Hilton Pkwy\, Hilton Head Island\, SC\, 29928\, United States
CATEGORIES:Live Music
ATTACH;FMTTYPE=image/jpeg:https://locallegendbrewing.com/wp-content/uploads/2025/05/Pete-Carroll-Music.jpg
END:VEVENT
BEGIN:VEVENT
DTSTART;TZID=America/New_York:20260128T170000
DTEND;TZID=America/New_York:20260128T200000
DTSTAMP:20260426T003617
CREATED:20260102T181145Z
LAST-MODIFIED:20260102T181145Z
UID:2200-1769619600-1769630400@locallegendbrewing.com
SUMMARY:Kyle Wareham
DESCRIPTION:
URL:https://locallegendbrewing.com/event/kyle-wareham-26/
LOCATION:Local Legend Brewing Company\, 1014 William Hilton Pkwy\, Hilton Head Island\, SC\, 29928\, United States
CATEGORIES:Live Music
ATTACH;FMTTYPE=image/jpeg:https://locallegendbrewing.com/wp-content/uploads/2025/05/Kyle-Photo.jpg
END:VEVENT
BEGIN:VEVENT
DTSTART;TZID=America/New_York:20260123T180000
DTEND;TZID=America/New_York:20260123T210000
DTSTAMP:20260426T003617
CREATED:20260102T181055Z
LAST-MODIFIED:20260102T181055Z
UID:2196-1769191200-1769202000@locallegendbrewing.com
SUMMARY:Feel Good INC. Duo
DESCRIPTION:
URL:https://locallegendbrewing.com/event/feel-good-inc-duo/
LOCATION:Local Legend Brewing Company\, 1014 William Hilton Pkwy\, Hilton Head Island\, SC\, 29928\, United States
CATEGORIES:Live Music
ATTACH;FMTTYPE=image/jpeg:https://locallegendbrewing.com/wp-content/uploads/2025/08/Feel-Good-Inc-Band.jpg
END:VEVENT
BEGIN:VEVENT
DTSTART;TZID=America/New_York:20260122T170000
DTEND;TZID=America/New_York:20260122T200000
DTSTAMP:20260426T003617
CREATED:20260102T181003Z
LAST-MODIFIED:20260102T181003Z
UID:2192-1769101200-1769112000@locallegendbrewing.com
SUMMARY:Levi Moore
DESCRIPTION:
URL:https://locallegendbrewing.com/event/levi-moore-9/
LOCATION:Local Legend Brewing Company\, 1014 William Hilton Pkwy\, Hilton Head Island\, SC\, 29928\, United States
CATEGORIES:Live Music
ATTACH;FMTTYPE=image/jpeg:https://locallegendbrewing.com/wp-content/uploads/2025/05/Levi-Moore-Featured.jpg
END:VEVENT
BEGIN:VEVENT
DTSTART;TZID=America/New_York:20260121T170000
DTEND;TZID=America/New_York:20260121T200000
DTSTAMP:20260426T003617
CREATED:20260102T180916Z
LAST-MODIFIED:20260102T180916Z
UID:2188-1769014800-1769025600@locallegendbrewing.com
SUMMARY:Kyle Wareham
DESCRIPTION:
URL:https://locallegendbrewing.com/event/kyle-wareham-25/
LOCATION:Local Legend Brewing Company\, 1014 William Hilton Pkwy\, Hilton Head Island\, SC\, 29928\, United States
CATEGORIES:Live Music
ATTACH;FMTTYPE=image/jpeg:https://locallegendbrewing.com/wp-content/uploads/2025/05/Kyle-Photo.jpg
END:VEVENT
BEGIN:VEVENT
DTSTART;TZID=America/New_York:20260116T180000
DTEND;TZID=America/New_York:20260116T210000
DTSTAMP:20260426T003617
CREATED:20260102T180833Z
LAST-MODIFIED:20260102T180833Z
UID:2184-1768586400-1768597200@locallegendbrewing.com
SUMMARY:Ben and Ross Duo
DESCRIPTION:
URL:https://locallegendbrewing.com/event/ben-and-ross-duo-3/
LOCATION:Local Legend Brewing Company\, 1014 William Hilton Pkwy\, Hilton Head Island\, SC\, 29928\, United States
CATEGORIES:Live Music
ATTACH;FMTTYPE=image/jpeg:https://locallegendbrewing.com/wp-content/uploads/2025/05/Ben-and-Ross-Duo-Featured.jpg
END:VEVENT
BEGIN:VEVENT
DTSTART;TZID=America/New_York:20260115T170000
DTEND;TZID=America/New_York:20260115T200000
DTSTAMP:20260426T003617
CREATED:20260102T180728Z
LAST-MODIFIED:20260102T180728Z
UID:2179-1768496400-1768507200@locallegendbrewing.com
SUMMARY:Taylor Kent
DESCRIPTION:
URL:https://locallegendbrewing.com/event/taylor-kent/
LOCATION:Local Legend Brewing Company\, 1014 William Hilton Pkwy\, Hilton Head Island\, SC\, 29928\, United States
CATEGORIES:Live Music
ATTACH;FMTTYPE=image/jpeg:https://locallegendbrewing.com/wp-content/uploads/2026/01/Taylor-Kent-Photo.jpg
END:VEVENT
BEGIN:VEVENT
DTSTART;TZID=America/New_York:20260114T170000
DTEND;TZID=America/New_York:20260114T200000
DTSTAMP:20260426T003617
CREATED:20260102T180535Z
LAST-MODIFIED:20260102T180535Z
UID:2175-1768410000-1768420800@locallegendbrewing.com
SUMMARY:Kyle Wareham
DESCRIPTION:
URL:https://locallegendbrewing.com/event/kyle-wareham-24/
LOCATION:Local Legend Brewing Company\, 1014 William Hilton Pkwy\, Hilton Head Island\, SC\, 29928\, United States
CATEGORIES:Live Music
ATTACH;FMTTYPE=image/jpeg:https://locallegendbrewing.com/wp-content/uploads/2025/05/Kyle-Photo.jpg
END:VEVENT
BEGIN:VEVENT
DTSTART;TZID=America/New_York:20260109T180000
DTEND;TZID=America/New_York:20260109T210000
DTSTAMP:20260426T003617
CREATED:20260102T180502Z
LAST-MODIFIED:20260102T180502Z
UID:2170-1767981600-1767992400@locallegendbrewing.com
SUMMARY:Lalie & Todd
DESCRIPTION:
URL:https://locallegendbrewing.com/event/lalie-todd/
LOCATION:Local Legend Brewing Company\, 1014 William Hilton Pkwy\, Hilton Head Island\, SC\, 29928\, United States
CATEGORIES:Live Music
ATTACH;FMTTYPE=image/jpeg:https://locallegendbrewing.com/wp-content/uploads/2026/01/Lalie-Todd-Feature.jpg
END:VEVENT
BEGIN:VEVENT
DTSTART;TZID=America/New_York:20260108T170000
DTEND;TZID=America/New_York:20260108T200000
DTSTAMP:20260426T003617
CREATED:20260102T180258Z
LAST-MODIFIED:20260102T180258Z
UID:2166-1767891600-1767902400@locallegendbrewing.com
SUMMARY:Levi Moore
DESCRIPTION:
URL:https://locallegendbrewing.com/event/levi-moore-8/
LOCATION:Local Legend Brewing Company\, 1014 William Hilton Pkwy\, Hilton Head Island\, SC\, 29928\, United States
CATEGORIES:Live Music
ATTACH;FMTTYPE=image/jpeg:https://locallegendbrewing.com/wp-content/uploads/2025/05/Levi-Moore-Featured.jpg
END:VEVENT
BEGIN:VEVENT
DTSTART;TZID=America/New_York:20260107T170000
DTEND;TZID=America/New_York:20260107T200000
DTSTAMP:20260426T003617
CREATED:20260102T180152Z
LAST-MODIFIED:20260102T180152Z
UID:2162-1767805200-1767816000@locallegendbrewing.com
SUMMARY:Kyle Wareham
DESCRIPTION:
URL:https://locallegendbrewing.com/event/kyle-wareham-23/
LOCATION:Local Legend Brewing Company\, 1014 William Hilton Pkwy\, Hilton Head Island\, SC\, 29928\, United States
CATEGORIES:Live Music
ATTACH;FMTTYPE=image/jpeg:https://locallegendbrewing.com/wp-content/uploads/2025/05/Kyle-Photo.jpg
END:VEVENT
BEGIN:VEVENT
DTSTART;TZID=America/New_York:20260103T180000
DTEND;TZID=America/New_York:20260103T210000
DTSTAMP:20260426T003617
CREATED:20260102T175651Z
LAST-MODIFIED:20260102T175651Z
UID:2150-1767463200-1767474000@locallegendbrewing.com
SUMMARY:La Bodega Duo
DESCRIPTION:
URL:https://locallegendbrewing.com/event/la-bodega-duo-3/
LOCATION:Local Legend Brewing Company\, 1014 William Hilton Pkwy\, Hilton Head Island\, SC\, 29928\, United States
CATEGORIES:Live Music
ATTACH;FMTTYPE=image/jpeg:https://locallegendbrewing.com/wp-content/uploads/2025/08/La_Bodega_DUO_small.jpg
END:VEVENT
BEGIN:VEVENT
DTSTART;TZID=America/New_York:20260102T180000
DTEND;TZID=America/New_York:20260102T210000
DTSTAMP:20260426T003617
CREATED:20260102T180045Z
LAST-MODIFIED:20260102T180045Z
UID:2154-1767376800-1767387600@locallegendbrewing.com
SUMMARY:Abbey Elmore Duo
DESCRIPTION:
URL:https://locallegendbrewing.com/event/abbey-elmore-duo/
LOCATION:Local Legend Brewing Company\, 1014 William Hilton Pkwy\, Hilton Head Island\, SC\, 29928\, United States
CATEGORIES:Live Music
ATTACH;FMTTYPE=image/jpeg:https://locallegendbrewing.com/wp-content/uploads/2026/01/Abbey-Elmore-Duo-Feature.jpg
END:VEVENT
BEGIN:VEVENT
DTSTART;TZID=America/New_York:20251209T180000
DTEND;TZID=America/New_York:20251209T180000
DTSTAMP:20260426T003617
CREATED:20250821T064859Z
LAST-MODIFIED:20250821T064859Z
UID:1529-1765303200-1765303200@locallegendbrewing.com
SUMMARY:Ales & Tales
DESCRIPTION:
URL:https://locallegendbrewing.com/event/ales-tales-4/
LOCATION:Local Legend Brewing Company\, 1014 William Hilton Pkwy\, Hilton Head Island\, SC\, 29928\, United States
CATEGORIES:Ales & Tales
ATTACH;FMTTYPE=image/jpeg:https://locallegendbrewing.com/wp-content/uploads/2025/05/Local-Legend-Live-Music-Placeholder.jpg
END:VEVENT
BEGIN:VEVENT
DTSTART;TZID=America/New_York:20251209T180000
DTEND;TZID=America/New_York:20251209T180000
DTSTAMP:20260426T003617
CREATED:20250821T063344Z
LAST-MODIFIED:20250905T030425Z
UID:1513-1765303200-1765303200@locallegendbrewing.com
SUMMARY:Open Mic Night
DESCRIPTION:
URL:https://locallegendbrewing.com/event/open-mic-night-4/
LOCATION:Local Legend Brewing Company\, 1014 William Hilton Pkwy\, Hilton Head Island\, SC\, 29928\, United States
CATEGORIES:Open Mic Night
ATTACH;FMTTYPE=image/jpeg:https://locallegendbrewing.com/wp-content/uploads/2025/05/Local-Legend-Live-Music-Placeholder.jpg
END:VEVENT
BEGIN:VEVENT
DTSTART;TZID=America/New_York:20251111T180000
DTEND;TZID=America/New_York:20251111T180000
DTSTAMP:20260426T003617
CREATED:20250821T064825Z
LAST-MODIFIED:20250821T064825Z
UID:1525-1762884000-1762884000@locallegendbrewing.com
SUMMARY:Ales & Tales
DESCRIPTION:
URL:https://locallegendbrewing.com/event/ales-tales-3/
LOCATION:Local Legend Brewing Company\, 1014 William Hilton Pkwy\, Hilton Head Island\, SC\, 29928\, United States
CATEGORIES:Ales & Tales
ATTACH;FMTTYPE=image/jpeg:https://locallegendbrewing.com/wp-content/uploads/2025/05/Local-Legend-Live-Music-Placeholder.jpg
END:VEVENT
BEGIN:VEVENT
DTSTART;TZID=America/New_York:20251111T180000
DTEND;TZID=America/New_York:20251111T180000
DTSTAMP:20260426T003617
CREATED:20250821T063300Z
LAST-MODIFIED:20250905T030440Z
UID:1509-1762884000-1762884000@locallegendbrewing.com
SUMMARY:Open Mic Night
DESCRIPTION:
URL:https://locallegendbrewing.com/event/open-mic-night-3/
LOCATION:Local Legend Brewing Company\, 1014 William Hilton Pkwy\, Hilton Head Island\, SC\, 29928\, United States
CATEGORIES:Open Mic Night
ATTACH;FMTTYPE=image/jpeg:https://locallegendbrewing.com/wp-content/uploads/2025/05/Local-Legend-Live-Music-Placeholder.jpg
END:VEVENT
END:VCALENDAR