BEGIN:VCALENDAR
VERSION:2.0
PRODID:-//Local Legend Brewing Company - ECPv6.15.3//NONSGML v1.0//EN
CALSCALE:GREGORIAN
METHOD:PUBLISH
X-ORIGINAL-URL:https://locallegendbrewing.com
X-WR-CALDESC:Events for Local Legend Brewing Company
REFRESH-INTERVAL;VALUE=DURATION:PT1H
X-Robots-Tag:noindex
X-PUBLISHED-TTL:PT1H
BEGIN:VTIMEZONE
TZID:America/New_York
BEGIN:DAYLIGHT
TZOFFSETFROM:-0500
TZOFFSETTO:-0400
TZNAME:EDT
DTSTART:20260308T070000
END:DAYLIGHT
BEGIN:STANDARD
TZOFFSETFROM:-0400
TZOFFSETTO:-0500
TZNAME:EST
DTSTART:20261101T060000
END:STANDARD
END:VTIMEZONE
BEGIN:VEVENT
DTSTART;TZID=America/New_York:20260304T170000
DTEND;TZID=America/New_York:20260304T200000
DTSTAMP:20260426T001924
CREATED:20260303T053100Z
LAST-MODIFIED:20260303T053100Z
UID:2277-1772643600-1772654400@locallegendbrewing.com
SUMMARY:Kyle Wareham
DESCRIPTION:
URL:https://locallegendbrewing.com/event/kyle-wareham-31/
LOCATION:Local Legend Brewing Company\, 1014 William Hilton Pkwy\, Hilton Head Island\, SC\, 29928\, United States
CATEGORIES:Live Music
ATTACH;FMTTYPE=image/jpeg:https://locallegendbrewing.com/wp-content/uploads/2025/07/Kyle-Wareham-Photo.jpg
END:VEVENT
BEGIN:VEVENT
DTSTART;TZID=America/New_York:20260305T170000
DTEND;TZID=America/New_York:20260305T200000
DTSTAMP:20260426T001924
CREATED:20260303T053158Z
LAST-MODIFIED:20260303T053158Z
UID:2281-1772730000-1772740800@locallegendbrewing.com
SUMMARY:Levi Moore
DESCRIPTION:
URL:https://locallegendbrewing.com/event/levi-moore-12/
LOCATION:Local Legend Brewing Company\, 1014 William Hilton Pkwy\, Hilton Head Island\, SC\, 29928\, United States
CATEGORIES:Live Music
ATTACH;FMTTYPE=image/jpeg:https://locallegendbrewing.com/wp-content/uploads/2025/05/Levi-Moore-Featured.jpg
END:VEVENT
BEGIN:VEVENT
DTSTART;TZID=America/New_York:20260306T180000
DTEND;TZID=America/New_York:20260306T210000
DTSTAMP:20260426T001924
CREATED:20260303T053757Z
LAST-MODIFIED:20260303T053757Z
UID:2285-1772820000-1772830800@locallegendbrewing.com
SUMMARY:Peach Patrol
DESCRIPTION:
URL:https://locallegendbrewing.com/event/peach-patrol-5/
LOCATION:Local Legend Brewing Company\, 1014 William Hilton Pkwy\, Hilton Head Island\, SC\, 29928\, United States
CATEGORIES:Live Music
ATTACH;FMTTYPE=image/jpeg:https://locallegendbrewing.com/wp-content/uploads/2025/05/Peach-Patrol-Featured.jpg
END:VEVENT
BEGIN:VEVENT
DTSTART;TZID=America/New_York:20260307T180000
DTEND;TZID=America/New_York:20260307T210000
DTSTAMP:20260426T001924
CREATED:20260303T054148Z
LAST-MODIFIED:20260303T054148Z
UID:2289-1772906400-1772917200@locallegendbrewing.com
SUMMARY:Soul Remedy
DESCRIPTION:
URL:https://locallegendbrewing.com/event/soul-remedy-5/
LOCATION:Local Legend Brewing Company\, 1014 William Hilton Pkwy\, Hilton Head Island\, SC\, 29928\, United States
CATEGORIES:Live Music
ATTACH;FMTTYPE=image/jpeg:https://locallegendbrewing.com/wp-content/uploads/2025/05/Soul-Remedy-band.jpg
END:VEVENT
BEGIN:VEVENT
DTSTART;TZID=America/New_York:20260311T180000
DTEND;TZID=America/New_York:20260311T210000
DTSTAMP:20260426T001924
CREATED:20260303T054258Z
LAST-MODIFIED:20260303T054258Z
UID:2297-1773252000-1773262800@locallegendbrewing.com
SUMMARY:Kyle Wareham
DESCRIPTION:
URL:https://locallegendbrewing.com/event/kyle-wareham-32/
LOCATION:Local Legend Brewing Company\, 1014 William Hilton Pkwy\, Hilton Head Island\, SC\, 29928\, United States
CATEGORIES:Live Music
ATTACH;FMTTYPE=image/jpeg:https://locallegendbrewing.com/wp-content/uploads/2025/07/Kyle-Wareham-Photo.jpg
END:VEVENT
BEGIN:VEVENT
DTSTART;TZID=America/New_York:20260312T180000
DTEND;TZID=America/New_York:20260312T210000
DTSTAMP:20260426T001924
CREATED:20260303T054303Z
LAST-MODIFIED:20260303T054303Z
UID:2298-1773338400-1773349200@locallegendbrewing.com
SUMMARY:Matthew Spruill
DESCRIPTION:
URL:https://locallegendbrewing.com/event/matthew-spruill-2/
LOCATION:Local Legend Brewing Company\, 1014 William Hilton Pkwy\, Hilton Head Island\, SC\, 29928\, United States
CATEGORIES:Live Music
ATTACH;FMTTYPE=image/jpeg:https://locallegendbrewing.com/wp-content/uploads/2026/01/Matthew-Spruill-PHoto.jpg
END:VEVENT
BEGIN:VEVENT
DTSTART;TZID=America/New_York:20260313T180000
DTEND;TZID=America/New_York:20260313T210000
DTSTAMP:20260426T001924
CREATED:20260303T054502Z
LAST-MODIFIED:20260303T054502Z
UID:2305-1773424800-1773435600@locallegendbrewing.com
SUMMARY:Cornbred
DESCRIPTION:
URL:https://locallegendbrewing.com/event/cornbred/
LOCATION:Local Legend Brewing Company\, 1014 William Hilton Pkwy\, Hilton Head Island\, SC\, 29928\, United States
CATEGORIES:Live Music
ATTACH;FMTTYPE=image/jpeg:https://locallegendbrewing.com/wp-content/uploads/2026/03/Cornbred.jpg
END:VEVENT
BEGIN:VEVENT
DTSTART;TZID=America/New_York:20260314T170000
DTEND;TZID=America/New_York:20260314T200000
DTSTAMP:20260426T001924
CREATED:20260303T054453Z
LAST-MODIFIED:20260303T054453Z
UID:2306-1773507600-1773518400@locallegendbrewing.com
SUMMARY:Soul Remedy
DESCRIPTION:
URL:https://locallegendbrewing.com/event/soul-remedy-6/
LOCATION:Local Legend Brewing Company\, 1014 William Hilton Pkwy\, Hilton Head Island\, SC\, 29928\, United States
CATEGORIES:Live Music
ATTACH;FMTTYPE=image/jpeg:https://locallegendbrewing.com/wp-content/uploads/2025/05/Soul-Remedy-band.jpg
END:VEVENT
BEGIN:VEVENT
DTSTART;TZID=America/New_York:20260315T170000
DTEND;TZID=America/New_York:20260315T200000
DTSTAMP:20260426T001924
CREATED:20260303T054605Z
LAST-MODIFIED:20260303T054605Z
UID:2314-1773594000-1773604800@locallegendbrewing.com
SUMMARY:Direwolf
DESCRIPTION:
URL:https://locallegendbrewing.com/event/direwolf/
LOCATION:Local Legend Brewing Company\, 1014 William Hilton Pkwy\, Hilton Head Island\, SC\, 29928\, United States
CATEGORIES:Live Music
ATTACH;FMTTYPE=image/jpeg:https://locallegendbrewing.com/wp-content/uploads/2025/08/Direwoof-Featured.jpg
END:VEVENT
BEGIN:VEVENT
DTSTART;TZID=America/New_York:20260318T180000
DTEND;TZID=America/New_York:20260318T210000
DTSTAMP:20260426T001924
CREATED:20260303T054611Z
LAST-MODIFIED:20260303T054611Z
UID:2315-1773856800-1773867600@locallegendbrewing.com
SUMMARY:Kyle Wareham
DESCRIPTION:
URL:https://locallegendbrewing.com/event/kyle-wareham-33/
LOCATION:Local Legend Brewing Company\, 1014 William Hilton Pkwy\, Hilton Head Island\, SC\, 29928\, United States
CATEGORIES:Live Music
ATTACH;FMTTYPE=image/jpeg:https://locallegendbrewing.com/wp-content/uploads/2025/07/Kyle-Wareham-Photo.jpg
END:VEVENT
BEGIN:VEVENT
DTSTART;TZID=America/New_York:20260320T180000
DTEND;TZID=America/New_York:20260320T210000
DTSTAMP:20260426T001924
CREATED:20260303T055106Z
LAST-MODIFIED:20260303T055106Z
UID:2322-1774029600-1774040400@locallegendbrewing.com
SUMMARY:TG Live
DESCRIPTION:
URL:https://locallegendbrewing.com/event/tg-live/
LOCATION:Local Legend Brewing Company\, 1014 William Hilton Pkwy\, Hilton Head Island\, SC\, 29928\, United States
CATEGORIES:Live Music
ATTACH;FMTTYPE=image/jpeg:https://locallegendbrewing.com/wp-content/uploads/2026/03/TG-Live-logo.jpg
END:VEVENT
BEGIN:VEVENT
DTSTART;TZID=America/New_York:20260321T180000
DTEND;TZID=America/New_York:20260321T210000
DTSTAMP:20260426T001924
CREATED:20260303T055121Z
LAST-MODIFIED:20260303T055121Z
UID:2323-1774116000-1774126800@locallegendbrewing.com
SUMMARY:David Ray & Marrisa Rivera
DESCRIPTION:
URL:https://locallegendbrewing.com/event/david-ray-marrisa-rivera/
LOCATION:Local Legend Brewing Company\, 1014 William Hilton Pkwy\, Hilton Head Island\, SC\, 29928\, United States
CATEGORIES:Live Music
ATTACH;FMTTYPE=image/jpeg:https://locallegendbrewing.com/wp-content/uploads/2025/05/Local-Legend-Live-Music-Placeholder.jpg
END:VEVENT
BEGIN:VEVENT
DTSTART;TZID=America/New_York:20260325T180000
DTEND;TZID=America/New_York:20260325T210000
DTSTAMP:20260426T001924
CREATED:20260303T055151Z
LAST-MODIFIED:20260303T055151Z
UID:2331-1774461600-1774472400@locallegendbrewing.com
SUMMARY:Kyle Wareham
DESCRIPTION:
URL:https://locallegendbrewing.com/event/kyle-wareham-34/
LOCATION:Local Legend Brewing Company\, 1014 William Hilton Pkwy\, Hilton Head Island\, SC\, 29928\, United States
CATEGORIES:Live Music
ATTACH;FMTTYPE=image/jpeg:https://locallegendbrewing.com/wp-content/uploads/2025/07/Kyle-Wareham-Photo.jpg
END:VEVENT
BEGIN:VEVENT
DTSTART;TZID=America/New_York:20260326T183000
DTEND;TZID=America/New_York:20260326T210000
DTSTAMP:20260426T001924
CREATED:20260303T055227Z
LAST-MODIFIED:20260303T055227Z
UID:2334-1774549800-1774558800@locallegendbrewing.com
SUMMARY:Matthew Spruill
DESCRIPTION:
URL:https://locallegendbrewing.com/event/matthew-spruill-3/
LOCATION:SC
CATEGORIES:Live Music
ATTACH;FMTTYPE=image/jpeg:https://locallegendbrewing.com/wp-content/uploads/2026/01/Matthew-Spruill-PHoto.jpg
END:VEVENT
BEGIN:VEVENT
DTSTART;TZID=America/New_York:20260327T180000
DTEND;TZID=America/New_York:20260327T210000
DTSTAMP:20260426T001924
CREATED:20260303T055307Z
LAST-MODIFIED:20260303T055307Z
UID:2339-1774634400-1774645200@locallegendbrewing.com
SUMMARY:Feel Good Inc.
DESCRIPTION:
URL:https://locallegendbrewing.com/event/feel-good-inc-2/
LOCATION:Local Legend Brewing Company\, 1014 William Hilton Pkwy\, Hilton Head Island\, SC\, 29928\, United States
CATEGORIES:Live Music
ATTACH;FMTTYPE=image/jpeg:https://locallegendbrewing.com/wp-content/uploads/2025/08/Feel-Good-Inc-Band.jpg
END:VEVENT
BEGIN:VEVENT
DTSTART;TZID=America/New_York:20260328T180000
DTEND;TZID=America/New_York:20260328T210000
DTSTAMP:20260426T001924
CREATED:20260303T055345Z
LAST-MODIFIED:20260303T055345Z
UID:2342-1774720800-1774731600@locallegendbrewing.com
SUMMARY:Anders Thomsen Trio
DESCRIPTION:
URL:https://locallegendbrewing.com/event/anders-thomsen-trio/
LOCATION:Local Legend Brewing Company\, 1014 William Hilton Pkwy\, Hilton Head Island\, SC\, 29928\, United States
CATEGORIES:Live Music
ATTACH;FMTTYPE=image/jpeg:https://locallegendbrewing.com/wp-content/uploads/2025/05/anders-Thompsen-Trio.jpg
END:VEVENT
BEGIN:VEVENT
DTSTART;TZID=America/New_York:20260401T170000
DTEND;TZID=America/New_York:20260401T200000
DTSTAMP:20260426T001924
CREATED:20260331T033617Z
LAST-MODIFIED:20260331T033617Z
UID:2380-1775062800-1775073600@locallegendbrewing.com
SUMMARY:Kyle Wareham
DESCRIPTION:
URL:https://locallegendbrewing.com/event/kyle-wareham-35/
LOCATION:Local Legend Brewing Company\, 1014 William Hilton Pkwy\, Hilton Head Island\, SC\, 29928\, United States
CATEGORIES:Live Music
ATTACH;FMTTYPE=image/jpeg:https://locallegendbrewing.com/wp-content/uploads/2025/07/Kyle-Wareham-Photo.jpg
END:VEVENT
BEGIN:VEVENT
DTSTART;TZID=America/New_York:20260402T170000
DTEND;TZID=America/New_York:20260402T200000
DTSTAMP:20260426T001924
CREATED:20260331T033726Z
LAST-MODIFIED:20260331T033726Z
UID:2384-1775149200-1775160000@locallegendbrewing.com
SUMMARY:Levi Moore
DESCRIPTION:
URL:https://locallegendbrewing.com/event/levi-moore-13/
LOCATION:Local Legend Brewing Company\, 1014 William Hilton Pkwy\, Hilton Head Island\, SC\, 29928\, United States
CATEGORIES:Live Music
ATTACH;FMTTYPE=image/jpeg:https://locallegendbrewing.com/wp-content/uploads/2025/05/Levi-Moore-Featured.jpg
END:VEVENT
BEGIN:VEVENT
DTSTART;TZID=America/New_York:20260403T170000
DTEND;TZID=America/New_York:20260403T200000
DTSTAMP:20260426T001924
CREATED:20260331T033818Z
LAST-MODIFIED:20260331T033818Z
UID:2388-1775235600-1775246400@locallegendbrewing.com
SUMMARY:Chilly Willy Band
DESCRIPTION:
URL:https://locallegendbrewing.com/event/chilly-willy-band-7/
LOCATION:Local Legend Brewing Company\, 1014 William Hilton Pkwy\, Hilton Head Island\, SC\, 29928\, United States
CATEGORIES:Live Music
ATTACH;FMTTYPE=image/jpeg:https://locallegendbrewing.com/wp-content/uploads/2025/05/ChillyWillyBand_Small_GS.jpg
END:VEVENT
BEGIN:VEVENT
DTSTART;TZID=America/New_York:20260404T170000
DTEND;TZID=America/New_York:20260404T200000
DTSTAMP:20260426T001924
CREATED:20260331T033901Z
LAST-MODIFIED:20260331T034251Z
UID:2392-1775322000-1775332800@locallegendbrewing.com
SUMMARY:TG Live
DESCRIPTION:
URL:https://locallegendbrewing.com/event/tg-live-2/
LOCATION:Local Legend Brewing Company\, 1014 William Hilton Pkwy\, Hilton Head Island\, SC\, 29928\, United States
CATEGORIES:Live Music
ATTACH;FMTTYPE=image/jpeg:https://locallegendbrewing.com/wp-content/uploads/2026/03/TG-Live-logo.jpg
END:VEVENT
BEGIN:VEVENT
DTSTART;TZID=America/New_York:20260408T170000
DTEND;TZID=America/New_York:20260408T200000
DTSTAMP:20260426T001924
CREATED:20260331T033940Z
LAST-MODIFIED:20260331T033940Z
UID:2396-1775667600-1775678400@locallegendbrewing.com
SUMMARY:Kyle Wareham
DESCRIPTION:
URL:https://locallegendbrewing.com/event/kyle-wareham-36/
LOCATION:Local Legend Brewing Company\, 1014 William Hilton Pkwy\, Hilton Head Island\, SC\, 29928\, United States
CATEGORIES:Live Music
ATTACH;FMTTYPE=image/jpeg:https://locallegendbrewing.com/wp-content/uploads/2025/07/Kyle-Wareham-Photo.jpg
END:VEVENT
BEGIN:VEVENT
DTSTART;TZID=America/New_York:20260409T170000
DTEND;TZID=America/New_York:20260409T200000
DTSTAMP:20260426T001924
CREATED:20260331T123333Z
LAST-MODIFIED:20260331T123333Z
UID:2400-1775754000-1775764800@locallegendbrewing.com
SUMMARY:The Groove
DESCRIPTION:
URL:https://locallegendbrewing.com/event/the-groove/
LOCATION:Local Legend Brewing Company\, 1014 William Hilton Pkwy\, Hilton Head Island\, SC\, 29928\, United States
CATEGORIES:Live Music
ATTACH;FMTTYPE=image/jpeg:https://locallegendbrewing.com/wp-content/uploads/2025/05/Local-Legend-Live-Music-Placeholder.jpg
END:VEVENT
BEGIN:VEVENT
DTSTART;TZID=America/New_York:20260410T170000
DTEND;TZID=America/New_York:20260410T200000
DTSTAMP:20260426T001924
CREATED:20260331T133422Z
LAST-MODIFIED:20260331T133422Z
UID:2404-1775840400-1775851200@locallegendbrewing.com
SUMMARY:Cornbred
DESCRIPTION:
URL:https://locallegendbrewing.com/event/cornbred-2/
LOCATION:Local Legend Brewing Company\, 1014 William Hilton Pkwy\, Hilton Head Island\, SC\, 29928\, United States
CATEGORIES:Live Music
ATTACH;FMTTYPE=image/jpeg:https://locallegendbrewing.com/wp-content/uploads/2026/03/Cornbred.jpg
END:VEVENT
BEGIN:VEVENT
DTSTART;TZID=America/New_York:20260411T170000
DTEND;TZID=America/New_York:20260411T200000
DTSTAMP:20260426T001924
CREATED:20260331T142637Z
LAST-MODIFIED:20260331T142637Z
UID:2408-1775926800-1775937600@locallegendbrewing.com
SUMMARY:The Jensens
DESCRIPTION:
URL:https://locallegendbrewing.com/event/the-jensens/
LOCATION:Local Legend Brewing Company\, 1014 William Hilton Pkwy\, Hilton Head Island\, SC\, 29928\, United States
CATEGORIES:Live Music
ATTACH;FMTTYPE=image/jpeg:https://locallegendbrewing.com/wp-content/uploads/2025/05/Local-Legend-Live-Music-Placeholder.jpg
END:VEVENT
BEGIN:VEVENT
DTSTART;TZID=America/New_York:20260415T170000
DTEND;TZID=America/New_York:20260415T200000
DTSTAMP:20260426T001924
CREATED:20260331T152510Z
LAST-MODIFIED:20260331T152510Z
UID:2412-1776272400-1776283200@locallegendbrewing.com
SUMMARY:Kyle Wareham
DESCRIPTION:
URL:https://locallegendbrewing.com/event/kyle-wareham-37/
LOCATION:Local Legend Brewing Company\, 1014 William Hilton Pkwy\, Hilton Head Island\, SC\, 29928\, United States
CATEGORIES:Live Music
ATTACH;FMTTYPE=image/jpeg:https://locallegendbrewing.com/wp-content/uploads/2025/07/Kyle-Wareham-Photo.jpg
END:VEVENT
BEGIN:VEVENT
DTSTART;TZID=America/New_York:20260416T170000
DTEND;TZID=America/New_York:20260416T200000
DTSTAMP:20260426T001924
CREATED:20260331T152653Z
LAST-MODIFIED:20260331T152653Z
UID:2416-1776358800-1776369600@locallegendbrewing.com
SUMMARY:Levi Moore
DESCRIPTION:
URL:https://locallegendbrewing.com/event/levi-moore-14/
LOCATION:Local Legend Brewing Company\, 1014 William Hilton Pkwy\, Hilton Head Island\, SC\, 29928\, United States
CATEGORIES:Live Music
ATTACH;FMTTYPE=image/jpeg:https://locallegendbrewing.com/wp-content/uploads/2025/05/Levi-Moore-Featured.jpg
END:VEVENT
BEGIN:VEVENT
DTSTART;TZID=America/New_York:20260417T170000
DTEND;TZID=America/New_York:20260417T200000
DTSTAMP:20260426T001924
CREATED:20260331T152727Z
LAST-MODIFIED:20260331T152727Z
UID:2417-1776445200-1776456000@locallegendbrewing.com
SUMMARY:DireWoof
DESCRIPTION:
URL:https://locallegendbrewing.com/event/direwoof/
LOCATION:Local Legend Brewing Company\, 1014 William Hilton Pkwy\, Hilton Head Island\, SC\, 29928\, United States
CATEGORIES:Live Music
ATTACH;FMTTYPE=image/jpeg:https://locallegendbrewing.com/wp-content/uploads/2025/08/Direwoof-Featured.jpg
END:VEVENT
BEGIN:VEVENT
DTSTART;TZID=America/New_York:20260418T170000
DTEND;TZID=America/New_York:20260418T200000
DTSTAMP:20260426T001924
CREATED:20260331T152736Z
LAST-MODIFIED:20260331T152812Z
UID:2418-1776531600-1776542400@locallegendbrewing.com
SUMMARY:Abbey Elmore Duo
DESCRIPTION:
URL:https://locallegendbrewing.com/event/abbey-elmore-duo-2/
LOCATION:Local Legend Brewing Company\, 1014 William Hilton Pkwy\, Hilton Head Island\, SC\, 29928\, United States
CATEGORIES:Live Music
ATTACH;FMTTYPE=image/jpeg:https://locallegendbrewing.com/wp-content/uploads/2026/01/Abbey-Elmore-Duo-Feature.jpg
END:VEVENT
BEGIN:VEVENT
DTSTART;TZID=America/New_York:20260422T170000
DTEND;TZID=America/New_York:20260422T200000
DTSTAMP:20260426T001924
CREATED:20260331T152827Z
LAST-MODIFIED:20260331T152827Z
UID:2419-1776877200-1776888000@locallegendbrewing.com
SUMMARY:Kyle Wareham
DESCRIPTION:
URL:https://locallegendbrewing.com/event/kyle-wareham-38/
LOCATION:Local Legend Brewing Company\, 1014 William Hilton Pkwy\, Hilton Head Island\, SC\, 29928\, United States
CATEGORIES:Live Music
ATTACH;FMTTYPE=image/jpeg:https://locallegendbrewing.com/wp-content/uploads/2025/07/Kyle-Wareham-Photo.jpg
END:VEVENT
BEGIN:VEVENT
DTSTART;TZID=America/New_York:20260423T170000
DTEND;TZID=America/New_York:20260423T200000
DTSTAMP:20260426T001924
CREATED:20260331T152924Z
LAST-MODIFIED:20260331T152924Z
UID:2429-1776963600-1776974400@locallegendbrewing.com
SUMMARY:Matthew Spruill
DESCRIPTION:
URL:https://locallegendbrewing.com/event/matthew-spruill-4/
LOCATION:Local Legend Brewing Company\, 1014 William Hilton Pkwy\, Hilton Head Island\, SC\, 29928\, United States
CATEGORIES:Live Music
ATTACH;FMTTYPE=image/jpeg:https://locallegendbrewing.com/wp-content/uploads/2026/01/Matthew-Spruill-PHoto.jpg
END:VEVENT
END:VCALENDAR