BEGIN:VCALENDAR
VERSION:2.0
PRODID:-//Local Legend Brewing Company - ECPv6.15.3//NONSGML v1.0//EN
CALSCALE:GREGORIAN
METHOD:PUBLISH
X-WR-CALNAME:Local Legend Brewing Company
X-ORIGINAL-URL:https://locallegendbrewing.com
X-WR-CALDESC:Events for Local Legend Brewing Company
REFRESH-INTERVAL;VALUE=DURATION:PT1H
X-Robots-Tag:noindex
X-PUBLISHED-TTL:PT1H
BEGIN:VTIMEZONE
TZID:America/New_York
BEGIN:DAYLIGHT
TZOFFSETFROM:-0500
TZOFFSETTO:-0400
TZNAME:EDT
DTSTART:20250309T070000
END:DAYLIGHT
BEGIN:STANDARD
TZOFFSETFROM:-0400
TZOFFSETTO:-0500
TZNAME:EST
DTSTART:20251102T060000
END:STANDARD
BEGIN:DAYLIGHT
TZOFFSETFROM:-0500
TZOFFSETTO:-0400
TZNAME:EDT
DTSTART:20260308T070000
END:DAYLIGHT
BEGIN:STANDARD
TZOFFSETFROM:-0400
TZOFFSETTO:-0500
TZNAME:EST
DTSTART:20261101T060000
END:STANDARD
END:VTIMEZONE
BEGIN:VEVENT
DTSTART;TZID=America/New_York:20260109T180000
DTEND;TZID=America/New_York:20260109T210000
DTSTAMP:20260426T003637
CREATED:20260102T180502Z
LAST-MODIFIED:20260102T180502Z
UID:2170-1767981600-1767992400@locallegendbrewing.com
SUMMARY:Lalie & Todd
DESCRIPTION:
URL:https://locallegendbrewing.com/event/lalie-todd/
LOCATION:Local Legend Brewing Company\, 1014 William Hilton Pkwy\, Hilton Head Island\, SC\, 29928\, United States
CATEGORIES:Live Music
ATTACH;FMTTYPE=image/jpeg:https://locallegendbrewing.com/wp-content/uploads/2026/01/Lalie-Todd-Feature.jpg
END:VEVENT
BEGIN:VEVENT
DTSTART;TZID=America/New_York:20260108T170000
DTEND;TZID=America/New_York:20260108T200000
DTSTAMP:20260426T003637
CREATED:20260102T180258Z
LAST-MODIFIED:20260102T180258Z
UID:2166-1767891600-1767902400@locallegendbrewing.com
SUMMARY:Levi Moore
DESCRIPTION:
URL:https://locallegendbrewing.com/event/levi-moore-8/
LOCATION:Local Legend Brewing Company\, 1014 William Hilton Pkwy\, Hilton Head Island\, SC\, 29928\, United States
CATEGORIES:Live Music
ATTACH;FMTTYPE=image/jpeg:https://locallegendbrewing.com/wp-content/uploads/2025/05/Levi-Moore-Featured.jpg
END:VEVENT
BEGIN:VEVENT
DTSTART;TZID=America/New_York:20260107T170000
DTEND;TZID=America/New_York:20260107T200000
DTSTAMP:20260426T003637
CREATED:20260102T180152Z
LAST-MODIFIED:20260102T180152Z
UID:2162-1767805200-1767816000@locallegendbrewing.com
SUMMARY:Kyle Wareham
DESCRIPTION:
URL:https://locallegendbrewing.com/event/kyle-wareham-23/
LOCATION:Local Legend Brewing Company\, 1014 William Hilton Pkwy\, Hilton Head Island\, SC\, 29928\, United States
CATEGORIES:Live Music
ATTACH;FMTTYPE=image/jpeg:https://locallegendbrewing.com/wp-content/uploads/2025/05/Kyle-Photo.jpg
END:VEVENT
BEGIN:VEVENT
DTSTART;TZID=America/New_York:20260103T180000
DTEND;TZID=America/New_York:20260103T210000
DTSTAMP:20260426T003637
CREATED:20260102T175651Z
LAST-MODIFIED:20260102T175651Z
UID:2150-1767463200-1767474000@locallegendbrewing.com
SUMMARY:La Bodega Duo
DESCRIPTION:
URL:https://locallegendbrewing.com/event/la-bodega-duo-3/
LOCATION:Local Legend Brewing Company\, 1014 William Hilton Pkwy\, Hilton Head Island\, SC\, 29928\, United States
CATEGORIES:Live Music
ATTACH;FMTTYPE=image/jpeg:https://locallegendbrewing.com/wp-content/uploads/2025/08/La_Bodega_DUO_small.jpg
END:VEVENT
BEGIN:VEVENT
DTSTART;TZID=America/New_York:20260102T180000
DTEND;TZID=America/New_York:20260102T210000
DTSTAMP:20260426T003637
CREATED:20260102T180045Z
LAST-MODIFIED:20260102T180045Z
UID:2154-1767376800-1767387600@locallegendbrewing.com
SUMMARY:Abbey Elmore Duo
DESCRIPTION:
URL:https://locallegendbrewing.com/event/abbey-elmore-duo/
LOCATION:Local Legend Brewing Company\, 1014 William Hilton Pkwy\, Hilton Head Island\, SC\, 29928\, United States
CATEGORIES:Live Music
ATTACH;FMTTYPE=image/jpeg:https://locallegendbrewing.com/wp-content/uploads/2026/01/Abbey-Elmore-Duo-Feature.jpg
END:VEVENT
BEGIN:VEVENT
DTSTART;TZID=America/New_York:20251209T180000
DTEND;TZID=America/New_York:20251209T180000
DTSTAMP:20260426T003637
CREATED:20250821T064859Z
LAST-MODIFIED:20250821T064859Z
UID:1529-1765303200-1765303200@locallegendbrewing.com
SUMMARY:Ales & Tales
DESCRIPTION:
URL:https://locallegendbrewing.com/event/ales-tales-4/
LOCATION:Local Legend Brewing Company\, 1014 William Hilton Pkwy\, Hilton Head Island\, SC\, 29928\, United States
CATEGORIES:Ales & Tales
ATTACH;FMTTYPE=image/jpeg:https://locallegendbrewing.com/wp-content/uploads/2025/05/Local-Legend-Live-Music-Placeholder.jpg
END:VEVENT
BEGIN:VEVENT
DTSTART;TZID=America/New_York:20251209T180000
DTEND;TZID=America/New_York:20251209T180000
DTSTAMP:20260426T003637
CREATED:20250821T063344Z
LAST-MODIFIED:20250905T030425Z
UID:1513-1765303200-1765303200@locallegendbrewing.com
SUMMARY:Open Mic Night
DESCRIPTION:
URL:https://locallegendbrewing.com/event/open-mic-night-4/
LOCATION:Local Legend Brewing Company\, 1014 William Hilton Pkwy\, Hilton Head Island\, SC\, 29928\, United States
CATEGORIES:Open Mic Night
ATTACH;FMTTYPE=image/jpeg:https://locallegendbrewing.com/wp-content/uploads/2025/05/Local-Legend-Live-Music-Placeholder.jpg
END:VEVENT
BEGIN:VEVENT
DTSTART;TZID=America/New_York:20251111T180000
DTEND;TZID=America/New_York:20251111T180000
DTSTAMP:20260426T003637
CREATED:20250821T064825Z
LAST-MODIFIED:20250821T064825Z
UID:1525-1762884000-1762884000@locallegendbrewing.com
SUMMARY:Ales & Tales
DESCRIPTION:
URL:https://locallegendbrewing.com/event/ales-tales-3/
LOCATION:Local Legend Brewing Company\, 1014 William Hilton Pkwy\, Hilton Head Island\, SC\, 29928\, United States
CATEGORIES:Ales & Tales
ATTACH;FMTTYPE=image/jpeg:https://locallegendbrewing.com/wp-content/uploads/2025/05/Local-Legend-Live-Music-Placeholder.jpg
END:VEVENT
BEGIN:VEVENT
DTSTART;TZID=America/New_York:20251111T180000
DTEND;TZID=America/New_York:20251111T180000
DTSTAMP:20260426T003637
CREATED:20250821T063300Z
LAST-MODIFIED:20250905T030440Z
UID:1509-1762884000-1762884000@locallegendbrewing.com
SUMMARY:Open Mic Night
DESCRIPTION:
URL:https://locallegendbrewing.com/event/open-mic-night-3/
LOCATION:Local Legend Brewing Company\, 1014 William Hilton Pkwy\, Hilton Head Island\, SC\, 29928\, United States
CATEGORIES:Open Mic Night
ATTACH;FMTTYPE=image/jpeg:https://locallegendbrewing.com/wp-content/uploads/2025/05/Local-Legend-Live-Music-Placeholder.jpg
END:VEVENT
BEGIN:VEVENT
DTSTART;TZID=America/New_York:20251101T170000
DTEND;TZID=America/New_York:20251101T200000
DTSTAMP:20260426T003637
CREATED:20250821T172746Z
LAST-MODIFIED:20250821T172746Z
UID:1818-1762016400-1762027200@locallegendbrewing.com
SUMMARY:Corey Tate 
DESCRIPTION:
URL:https://locallegendbrewing.com/event/corey-tate-6/
LOCATION:Local Legend Brewing Company\, 1014 William Hilton Pkwy\, Hilton Head Island\, SC\, 29928\, United States
CATEGORIES:Live Music
END:VEVENT
BEGIN:VEVENT
DTSTART;TZID=America/New_York:20251031T180000
DTEND;TZID=America/New_York:20251031T210000
DTSTAMP:20260426T003637
CREATED:20250821T172117Z
LAST-MODIFIED:20250821T172117Z
UID:1790-1761933600-1761944400@locallegendbrewing.com
SUMMARY:Marisa Rivera & Chip Larkby Duo
DESCRIPTION:
URL:https://locallegendbrewing.com/event/marisa-rivera-chip-larkby-duo/
LOCATION:Local Legend Brewing Company\, 1014 William Hilton Pkwy\, Hilton Head Island\, SC\, 29928\, United States
CATEGORIES:Live Music
ATTACH;FMTTYPE=image/jpeg:https://locallegendbrewing.com/wp-content/uploads/2025/05/Local-Legend-Live-Music-Placeholder.jpg
END:VEVENT
BEGIN:VEVENT
DTSTART;TZID=America/New_York:20251030T170000
DTEND;TZID=America/New_York:20251030T200000
DTSTAMP:20260426T003637
CREATED:20250821T171344Z
LAST-MODIFIED:20250821T171344Z
UID:1762-1761843600-1761854400@locallegendbrewing.com
SUMMARY:The Groove (GTA Duo)
DESCRIPTION:
URL:https://locallegendbrewing.com/event/the-groove-gta-duo-4/
LOCATION:Local Legend Brewing Company\, 1014 William Hilton Pkwy\, Hilton Head Island\, SC\, 29928\, United States
CATEGORIES:Live Music
ATTACH;FMTTYPE=image/jpeg:https://locallegendbrewing.com/wp-content/uploads/2025/08/GTA_Groove_Town_Assault_small.jpg
END:VEVENT
BEGIN:VEVENT
DTSTART;TZID=America/New_York:20251029T180000
DTEND;TZID=America/New_York:20251029T210000
DTSTAMP:20260426T003637
CREATED:20250905T031906Z
LAST-MODIFIED:20250905T031906Z
UID:1910-1761760800-1761771600@locallegendbrewing.com
SUMMARY:Kyle Wareham
DESCRIPTION:
URL:https://locallegendbrewing.com/event/kyle-wareham-22/
LOCATION:Local Legend Brewing Company\, 1014 William Hilton Pkwy\, Hilton Head Island\, SC\, 29928\, United States
CATEGORIES:Live Music
ATTACH;FMTTYPE=image/jpeg:https://locallegendbrewing.com/wp-content/uploads/2025/07/Kyle-Wareham-Photo.jpg
END:VEVENT
BEGIN:VEVENT
DTSTART;TZID=America/New_York:20251025T170000
DTEND;TZID=America/New_York:20251025T200000
DTSTAMP:20260426T003637
CREATED:20250821T172717Z
LAST-MODIFIED:20250821T172717Z
UID:1815-1761411600-1761422400@locallegendbrewing.com
SUMMARY:Jesse James Russell
DESCRIPTION:
URL:https://locallegendbrewing.com/event/jesse-james-russell/
LOCATION:Local Legend Brewing Company\, 1014 William Hilton Pkwy\, Hilton Head Island\, SC\, 29928\, United States
CATEGORIES:Live Music
ATTACH;FMTTYPE=image/jpeg:https://locallegendbrewing.com/wp-content/uploads/2025/08/Jesse-James-Russell-Band-Feature.jpg
END:VEVENT
BEGIN:VEVENT
DTSTART;TZID=America/New_York:20251024T180000
DTEND;TZID=America/New_York:20251024T210000
DTSTAMP:20260426T003637
CREATED:20250821T172121Z
LAST-MODIFIED:20250821T172121Z
UID:1791-1761328800-1761339600@locallegendbrewing.com
SUMMARY:Feel Good Inc.
DESCRIPTION:
URL:https://locallegendbrewing.com/event/feel-good-inc/
LOCATION:Local Legend Brewing Company\, 1014 William Hilton Pkwy\, Hilton Head Island\, SC\, 29928\, United States
CATEGORIES:Live Music
ATTACH;FMTTYPE=image/jpeg:https://locallegendbrewing.com/wp-content/uploads/2025/08/Feel-Good-Inc-Band.jpg
END:VEVENT
BEGIN:VEVENT
DTSTART;TZID=America/New_York:20251023T170000
DTEND;TZID=America/New_York:20251023T200000
DTSTAMP:20260426T003637
CREATED:20250821T171349Z
LAST-MODIFIED:20250821T171349Z
UID:1761-1761238800-1761249600@locallegendbrewing.com
SUMMARY:Levi Moore
DESCRIPTION:
URL:https://locallegendbrewing.com/event/levi-moore-6/
LOCATION:Local Legend Brewing Company\, 1014 William Hilton Pkwy\, Hilton Head Island\, SC\, 29928\, United States
CATEGORIES:Live Music
ATTACH;FMTTYPE=image/jpeg:https://locallegendbrewing.com/wp-content/uploads/2025/05/Levi-Moore-Featured.jpg
END:VEVENT
BEGIN:VEVENT
DTSTART;TZID=America/New_York:20251022T180000
DTEND;TZID=America/New_York:20251022T210000
DTSTAMP:20260426T003637
CREATED:20250905T031824Z
LAST-MODIFIED:20250905T031824Z
UID:1909-1761156000-1761166800@locallegendbrewing.com
SUMMARY:Kyle Wareham
DESCRIPTION:
URL:https://locallegendbrewing.com/event/kyle-wareham-21/
LOCATION:Local Legend Brewing Company\, 1014 William Hilton Pkwy\, Hilton Head Island\, SC\, 29928\, United States
CATEGORIES:Live Music
ATTACH;FMTTYPE=image/jpeg:https://locallegendbrewing.com/wp-content/uploads/2025/07/Kyle-Wareham-Photo.jpg
END:VEVENT
BEGIN:VEVENT
DTSTART;TZID=America/New_York:20251018T170000
DTEND;TZID=America/New_York:20251018T200000
DTSTAMP:20260426T003637
CREATED:20250821T172708Z
LAST-MODIFIED:20250821T172708Z
UID:1814-1760806800-1760817600@locallegendbrewing.com
SUMMARY:Pete Carroll
DESCRIPTION:
URL:https://locallegendbrewing.com/event/pete-carroll-7/
LOCATION:Local Legend Brewing Company\, 1014 William Hilton Pkwy\, Hilton Head Island\, SC\, 29928\, United States
CATEGORIES:Live Music
ATTACH;FMTTYPE=image/jpeg:https://locallegendbrewing.com/wp-content/uploads/2025/05/Pete-Carroll-Music.jpg
END:VEVENT
BEGIN:VEVENT
DTSTART;TZID=America/New_York:20251017T180000
DTEND;TZID=America/New_York:20251017T210000
DTSTAMP:20260426T003637
CREATED:20250821T171947Z
LAST-MODIFIED:20250821T171947Z
UID:1781-1760724000-1760734800@locallegendbrewing.com
SUMMARY:Sporehead
DESCRIPTION:
URL:https://locallegendbrewing.com/event/sporehead/
LOCATION:Local Legend Brewing Company\, 1014 William Hilton Pkwy\, Hilton Head Island\, SC\, 29928\, United States
CATEGORIES:Live Music
ATTACH;FMTTYPE=image/jpeg:https://locallegendbrewing.com/wp-content/uploads/2025/05/Sporehead-band.jpg
END:VEVENT
BEGIN:VEVENT
DTSTART;TZID=America/New_York:20251016T170000
DTEND;TZID=America/New_York:20251016T200000
DTSTAMP:20260426T003637
CREATED:20250821T171251Z
LAST-MODIFIED:20250821T171251Z
UID:1746-1760634000-1760644800@locallegendbrewing.com
SUMMARY:The Groove (GTA Duo)
DESCRIPTION:
URL:https://locallegendbrewing.com/event/the-groove-gta-duo-3/
LOCATION:Local Legend Brewing Company\, 1014 William Hilton Pkwy\, Hilton Head Island\, SC\, 29928\, United States
CATEGORIES:Live Music
ATTACH;FMTTYPE=image/jpeg:https://locallegendbrewing.com/wp-content/uploads/2025/08/GTA_Groove_Town_Assault_small.jpg
END:VEVENT
BEGIN:VEVENT
DTSTART;TZID=America/New_York:20251015T180000
DTEND;TZID=America/New_York:20251015T210000
DTSTAMP:20260426T003637
CREATED:20250905T031754Z
LAST-MODIFIED:20250905T031754Z
UID:1908-1760551200-1760562000@locallegendbrewing.com
SUMMARY:Kyle Wareham
DESCRIPTION:
URL:https://locallegendbrewing.com/event/kyle-wareham-20/
LOCATION:Local Legend Brewing Company\, 1014 William Hilton Pkwy\, Hilton Head Island\, SC\, 29928\, United States
CATEGORIES:Live Music
ATTACH;FMTTYPE=image/jpeg:https://locallegendbrewing.com/wp-content/uploads/2025/07/Kyle-Wareham-Photo.jpg
END:VEVENT
BEGIN:VEVENT
DTSTART;TZID=America/New_York:20251014T180000
DTEND;TZID=America/New_York:20251014T180000
DTSTAMP:20260426T003637
CREATED:20250821T064638Z
LAST-MODIFIED:20250821T064638Z
UID:1521-1760464800-1760464800@locallegendbrewing.com
SUMMARY:Ales & Tales
DESCRIPTION:
URL:https://locallegendbrewing.com/event/ales-tales-2/
LOCATION:Local Legend Brewing Company\, 1014 William Hilton Pkwy\, Hilton Head Island\, SC\, 29928\, United States
CATEGORIES:Ales & Tales
ATTACH;FMTTYPE=image/jpeg:https://locallegendbrewing.com/wp-content/uploads/2025/05/Local-Legend-Live-Music-Placeholder.jpg
END:VEVENT
BEGIN:VEVENT
DTSTART;TZID=America/New_York:20251014T180000
DTEND;TZID=America/New_York:20251014T180000
DTSTAMP:20260426T003637
CREATED:20250821T063224Z
LAST-MODIFIED:20250905T030456Z
UID:1505-1760464800-1760464800@locallegendbrewing.com
SUMMARY:Open Mic Night
DESCRIPTION:
URL:https://locallegendbrewing.com/event/open-mic-night-2/
LOCATION:Local Legend Brewing Company\, 1014 William Hilton Pkwy\, Hilton Head Island\, SC\, 29928\, United States
CATEGORIES:Open Mic Night
ATTACH;FMTTYPE=image/jpeg:https://locallegendbrewing.com/wp-content/uploads/2025/05/Local-Legend-Live-Music-Placeholder.jpg
END:VEVENT
BEGIN:VEVENT
DTSTART;TZID=America/New_York:20251011T170000
DTEND;TZID=America/New_York:20251011T200000
DTSTAMP:20260426T003637
CREATED:20250821T172613Z
LAST-MODIFIED:20250821T172613Z
UID:1813-1760202000-1760212800@locallegendbrewing.com
SUMMARY:Corey Tate 
DESCRIPTION:
URL:https://locallegendbrewing.com/event/corey-tate-5/
LOCATION:Local Legend Brewing Company\, 1014 William Hilton Pkwy\, Hilton Head Island\, SC\, 29928\, United States
CATEGORIES:Live Music
ATTACH;FMTTYPE=image/jpeg:https://locallegendbrewing.com/wp-content/uploads/2025/05/CoreyTate_GS_INVERSE_small.jpg
END:VEVENT
BEGIN:VEVENT
DTSTART;TZID=America/New_York:20251010T180000
DTEND;TZID=America/New_York:20251010T210000
DTSTAMP:20260426T003637
CREATED:20250821T171950Z
LAST-MODIFIED:20250821T171950Z
UID:1780-1760119200-1760130000@locallegendbrewing.com
SUMMARY:Anders Thompson Trio 
DESCRIPTION:
URL:https://locallegendbrewing.com/event/anders-thompson-trio-3/
LOCATION:Local Legend Brewing Company\, 1014 William Hilton Pkwy\, Hilton Head Island\, SC\, 29928\, United States
CATEGORIES:Live Music
ATTACH;FMTTYPE=image/jpeg:https://locallegendbrewing.com/wp-content/uploads/2025/05/anders-Thompsen-Trio.jpg
END:VEVENT
BEGIN:VEVENT
DTSTART;TZID=America/New_York:20251009T170000
DTEND;TZID=America/New_York:20251009T200000
DTSTAMP:20260426T003637
CREATED:20250821T171224Z
LAST-MODIFIED:20250821T171224Z
UID:1745-1760029200-1760040000@locallegendbrewing.com
SUMMARY:La Bodega Duo 
DESCRIPTION:
URL:https://locallegendbrewing.com/event/la-bodega-duo-2/
LOCATION:Local Legend Brewing Company\, 1014 William Hilton Pkwy\, Hilton Head Island\, SC\, 29928\, United States
CATEGORIES:Live Music
ATTACH;FMTTYPE=image/jpeg:https://locallegendbrewing.com/wp-content/uploads/2025/08/La_Bodega_DUO_small.jpg
END:VEVENT
BEGIN:VEVENT
DTSTART;TZID=America/New_York:20251008T180000
DTEND;TZID=America/New_York:20251008T210000
DTSTAMP:20260426T003637
CREATED:20250905T031729Z
LAST-MODIFIED:20250905T031729Z
UID:1907-1759946400-1759957200@locallegendbrewing.com
SUMMARY:Kyle Wareham
DESCRIPTION:
URL:https://locallegendbrewing.com/event/kyle-wareham-19/
LOCATION:Local Legend Brewing Company\, 1014 William Hilton Pkwy\, Hilton Head Island\, SC\, 29928\, United States
CATEGORIES:Live Music
ATTACH;FMTTYPE=image/jpeg:https://locallegendbrewing.com/wp-content/uploads/2025/07/Kyle-Wareham-Photo.jpg
END:VEVENT
BEGIN:VEVENT
DTSTART;TZID=America/New_York:20251004T170000
DTEND;TZID=America/New_York:20251004T200000
DTSTAMP:20260426T003637
CREATED:20250821T172607Z
LAST-MODIFIED:20250821T172607Z
UID:1803-1759597200-1759608000@locallegendbrewing.com
SUMMARY:Levi Moore 
DESCRIPTION:
URL:https://locallegendbrewing.com/event/levi-moore-7/
LOCATION:Local Legend Brewing Company\, 1014 William Hilton Pkwy\, Hilton Head Island\, SC\, 29928\, United States
CATEGORIES:Live Music
ATTACH;FMTTYPE=image/jpeg:https://locallegendbrewing.com/wp-content/uploads/2025/05/Levi-Moore-Featured.jpg
END:VEVENT
BEGIN:VEVENT
DTSTART;TZID=America/New_York:20251003T180000
DTEND;TZID=America/New_York:20251003T210000
DTSTAMP:20260426T003637
CREATED:20250821T171728Z
LAST-MODIFIED:20250821T171728Z
UID:1775-1759514400-1759525200@locallegendbrewing.com
SUMMARY:Chilly Willy Band 
DESCRIPTION:
URL:https://locallegendbrewing.com/event/chilly-willy-band-6/
LOCATION:Local Legend Brewing Company\, 1014 William Hilton Pkwy\, Hilton Head Island\, SC\, 29928\, United States
CATEGORIES:Live Music
ATTACH;FMTTYPE=image/jpeg:https://locallegendbrewing.com/wp-content/uploads/2025/05/ChillyWillyBand_Small_GS.jpg
END:VEVENT
BEGIN:VEVENT
DTSTART;TZID=America/New_York:20251002T170000
DTEND;TZID=America/New_York:20251002T200000
DTSTAMP:20260426T003637
CREATED:20250821T171122Z
LAST-MODIFIED:20250821T171122Z
UID:1744-1759424400-1759435200@locallegendbrewing.com
SUMMARY:The Groove (GTA Duo)
DESCRIPTION:
URL:https://locallegendbrewing.com/event/the-groove-gta-duo-2/
LOCATION:Local Legend Brewing Company\, 1014 William Hilton Pkwy\, Hilton Head Island\, SC\, 29928\, United States
CATEGORIES:Live Music
ATTACH;FMTTYPE=image/jpeg:https://locallegendbrewing.com/wp-content/uploads/2025/08/GTA_Groove_Town_Assault_small.jpg
END:VEVENT
END:VCALENDAR