BEGIN:VCALENDAR
VERSION:2.0
PRODID:-//Local Legend Brewing Company - ECPv6.15.3//NONSGML v1.0//EN
CALSCALE:GREGORIAN
METHOD:PUBLISH
X-WR-CALNAME:Local Legend Brewing Company
X-ORIGINAL-URL:https://locallegendbrewing.com
X-WR-CALDESC:Events for Local Legend Brewing Company
REFRESH-INTERVAL;VALUE=DURATION:PT1H
X-Robots-Tag:noindex
X-PUBLISHED-TTL:PT1H
BEGIN:VTIMEZONE
TZID:America/New_York
BEGIN:DAYLIGHT
TZOFFSETFROM:-0500
TZOFFSETTO:-0400
TZNAME:EDT
DTSTART:20260308T070000
END:DAYLIGHT
BEGIN:STANDARD
TZOFFSETFROM:-0400
TZOFFSETTO:-0500
TZNAME:EST
DTSTART:20261101T060000
END:STANDARD
END:VTIMEZONE
BEGIN:VEVENT
DTSTART;TZID=America/New_York:20260227T180000
DTEND;TZID=America/New_York:20260227T210000
DTSTAMP:20260425T173518
CREATED:20260131T031414Z
LAST-MODIFIED:20260131T031414Z
UID:2261-1772215200-1772226000@locallegendbrewing.com
SUMMARY:Feel Good Inc. Duo
DESCRIPTION:
URL:https://locallegendbrewing.com/event/feel-good-inc-duo-2/
LOCATION:Local Legend Brewing Company\, 1014 William Hilton Pkwy\, Hilton Head Island\, SC\, 29928\, United States
CATEGORIES:Live Music
ATTACH;FMTTYPE=image/jpeg:https://locallegendbrewing.com/wp-content/uploads/2025/08/Feel-Good-Inc-Band.jpg
END:VEVENT
END:VCALENDAR